BEGIN:VCALENDAR
VERSION:2.0
PRODID:-//Haapamäen Museoveturiyhdistys ry - ECPv6.15.20//NONSGML v1.0//EN
CALSCALE:GREGORIAN
METHOD:PUBLISH
X-WR-CALNAME:Haapamäen Museoveturiyhdistys ry
X-ORIGINAL-URL:https://hmvywordpress.azurewebsites.net
X-WR-CALDESC:Tapahtumat Haapamäen Museoveturiyhdistys ry
REFRESH-INTERVAL;VALUE=DURATION:PT1H
X-Robots-Tag:noindex
X-PUBLISHED-TTL:PT1H
BEGIN:VTIMEZONE
TZID:Europe/Helsinki
BEGIN:DAYLIGHT
TZOFFSETFROM:+0200
TZOFFSETTO:+0300
TZNAME:EEST
DTSTART:20230326T010000
END:DAYLIGHT
BEGIN:STANDARD
TZOFFSETFROM:+0300
TZOFFSETTO:+0200
TZNAME:EET
DTSTART:20231029T010000
END:STANDARD
BEGIN:DAYLIGHT
TZOFFSETFROM:+0200
TZOFFSETTO:+0300
TZNAME:EEST
DTSTART:20240331T010000
END:DAYLIGHT
BEGIN:STANDARD
TZOFFSETFROM:+0300
TZOFFSETTO:+0200
TZNAME:EET
DTSTART:20241027T010000
END:STANDARD
BEGIN:DAYLIGHT
TZOFFSETFROM:+0200
TZOFFSETTO:+0300
TZNAME:EEST
DTSTART:20250330T010000
END:DAYLIGHT
BEGIN:STANDARD
TZOFFSETFROM:+0300
TZOFFSETTO:+0200
TZNAME:EET
DTSTART:20251026T010000
END:STANDARD
END:VTIMEZONE
BEGIN:VEVENT
DTSTART;TZID=Europe/Helsinki:20241123T100000
DTEND;TZID=Europe/Helsinki:20241123T151500
DTSTAMP:20260423T122221
CREATED:20241030T131455Z
LAST-MODIFIED:20241120T105958Z
UID:1914-1732356000-1732374900@hmvywordpress.azurewebsites.net
SUMMARY:Joulupukin lättähattujunat Joensuu–Heinävaara
DESCRIPTION:Lauantaina 23.11. joulupukki on valinnut menopelikseen legendaariset 1960-luvun Dm7-dieselmoottorivaunut\, eli ”lättähatut”. Lättähatut tekevät päivän aikana kolme edestakaista matkaa Joensuusta Heinävaaraan ja takaisin. Joulupukki ja apulaistonttu kiertävät matkan aikana junassa kuuntelemassa mm. lahjatoiveita\, ja jakamassa suklaakonvehteja. \nMatka lättähatulla on aikamatka 1960-luvun junamatkustamiseen\, ja sopii kaikille vauvasta vaariin! Junassa on lämmitys\, valaistus ja WC\, joten mukavuudesta ei tarvitse tinkiä! \n1. juna\nJoensuu 10:00\nHeinävaara tulo 10:30\nHeinävaara lähtö 10:45\nJoensuu 11:15 \n2. juna\nJoensuu 11:30\nHeinävaara tulo 12:00\nHeinävaara lähtö 12:15\nJoensuu 12:45 \n3. juna\nJoensuu 14:00\nHeinävaara tulo 14:30\nHeinävaara lähtö 14:45\nJoensuu 15:15 \nJoensuussa juna lähtee ja saapuu raiteelta 3.\nHeinävaarassa juna pysähtyy Heinävaaran rautatieasemalla\, osoite Heinävaara Lv 61. \nLippujen hinnat\, meno-paluu:\nAikuinen 20 €\nLapsi (4-16v) 10 €\nPerhe (2 aik + saman talouden lapset) 55 € \nMenoliput -50% yllä olevista hinnoista. \nMaksuvälineinä maksukortit ja käteinen.\nMatkaliput myydään junassa eikä junaan ole mahdollista varata paikkoja etukäteen. \nLastenvaunut yms. kookkaammat matkatavarat kulkevat veloituksetta junan matkatavaraosastossa. \nPyydämme huomioimaan\, ettei juna valitettavasti täytä nykypäivän esteettömyysvaatimuksia ja junaan nousu tapahtuu portaita pitkin kapeista ovista. \nTapahtuma on päihteetön. \nTervetuloa nostalgiselle matkalle Joulupukin kanssa!
URL:https://hmvywordpress.azurewebsites.net/tapahtuma/joulupukin-joensuu-heinavaara/
ATTACH;FMTTYPE=image/jpeg:/wp-content/uploads/2024/10/Dm7-Nns.jpg
END:VEVENT
BEGIN:VEVENT
DTSTART;TZID=Europe/Helsinki:20241123T170000
DTEND;TZID=Europe/Helsinki:20241123T192400
DTSTAMP:20260423T122221
CREATED:20241121T191828Z
LAST-MODIFIED:20241121T191932Z
UID:1932-1732381200-1732389840@hmvywordpress.azurewebsites.net
SUMMARY:Lättähatun kyydissä Joensuusta Siilinjärvelle
DESCRIPTION:Lauantaina 23.11. avautuu harvinainen mahdollisuus matkustaa tavallisesti vain tavaraliikenteen käyttämällä Viinijärven ja Siilinjärven välisellä rataosalla Haapamäen Museoveturiyhdistys ry:n Dm7 kiskoauton\, eli tuttavallisemmin Lättähatun kyydissä! \nMatkan tarkoitus on siirtää Lättähattukalustomme Joensuusta Siilinjärvelle\, joten emme voi tarjota paluumatkaa\, vaan se täytyy suorittaa omatoimisesti. Matka soveltuu kuitenkin erinomaisesti muista syistä esimerkiksi Joensuusta Viinijärvelle tai Siilinjärvelle matkustavalle\, joka ei piittaa verkkaisemmasta matkanteosta ja vanhan ajan tunnelmasta! \nJunassa on lämmitys\, valaistus ja WC\, joten matkustusmukavuudestakaan ei tarvitse tinkiä. Myös kookkaammat matkatavarat matkustavat veloituksetta kätevästi junan matkatavaraosastossa!\nValitettavasti juna ei täytä nykypäivän esteettömyysvaatimuksia\, sillä junaan nousu tapahtuu jyrkkiä portaita pitkin kapeista ovista. \nAikataulu: \nJunan tunnus: MUS 1928\n(Lähtöraide näkyy Joensuussa aseman infonäytöillä junan tunnuksen kohdalla) \nJoensuu lähtö klo 17:00 \nViinijärvi lähtö klo 17:33 \nSiilinjärvi saapuminen klo 19:24 \nLippujen hinnat: \nJoensuu-Siilinjärvi 15€ \nJoensuu-Viinijärvi 5€ \nViinijärvi-Siilinjärvi 10€ \nHinta koskee yhtä matkustajaa. Liput myydään junassa\, sekä Joensuussa asemalaiturilla ennen junan lähtöaikaa. Lippujen tai istumapaikkojen varaaminen etukäteen ei ole mahdollista. \nMaksuvälineinä käyvät käteinen ja maksukortit. \nTervetuloa nostalgisen Lättähatun kyytiin!
URL:https://hmvywordpress.azurewebsites.net/tapahtuma/lattahattu-vnj-sij/
ATTACH;FMTTYPE=image/jpeg:/wp-content/uploads/2024/10/Dm7-Nns.jpg
END:VEVENT
END:VCALENDAR