BEGIN:VCALENDAR
VERSION:2.0
PRODID:-//Haapamäen Museoveturiyhdistys ry - ECPv6.15.20//NONSGML v1.0//EN
CALSCALE:GREGORIAN
METHOD:PUBLISH
X-ORIGINAL-URL:https://hmvywordpress.azurewebsites.net
X-WR-CALDESC:Tapahtumat Haapamäen Museoveturiyhdistys ry
REFRESH-INTERVAL;VALUE=DURATION:PT1H
X-Robots-Tag:noindex
X-PUBLISHED-TTL:PT1H
BEGIN:VTIMEZONE
TZID:Europe/Helsinki
BEGIN:DAYLIGHT
TZOFFSETFROM:+0200
TZOFFSETTO:+0300
TZNAME:EEST
DTSTART:20230326T010000
END:DAYLIGHT
BEGIN:STANDARD
TZOFFSETFROM:+0300
TZOFFSETTO:+0200
TZNAME:EET
DTSTART:20231029T010000
END:STANDARD
BEGIN:DAYLIGHT
TZOFFSETFROM:+0200
TZOFFSETTO:+0300
TZNAME:EEST
DTSTART:20240331T010000
END:DAYLIGHT
BEGIN:STANDARD
TZOFFSETFROM:+0300
TZOFFSETTO:+0200
TZNAME:EET
DTSTART:20241027T010000
END:STANDARD
BEGIN:DAYLIGHT
TZOFFSETFROM:+0200
TZOFFSETTO:+0300
TZNAME:EEST
DTSTART:20250330T010000
END:DAYLIGHT
BEGIN:STANDARD
TZOFFSETFROM:+0300
TZOFFSETTO:+0200
TZNAME:EET
DTSTART:20251026T010000
END:STANDARD
END:VTIMEZONE
BEGIN:VEVENT
DTSTART;TZID=Europe/Helsinki:20241130T140000
DTEND;TZID=Europe/Helsinki:20241130T200000
DTSTAMP:20260423T102437
CREATED:20241007T144409Z
LAST-MODIFIED:20241127T221506Z
UID:1906-1732975200-1732996800@hmvywordpress.azurewebsites.net
SUMMARY:HMVY:n syyskokous ja joulujuhla la 30.11.2024
DESCRIPTION:Haapamäen museoveturiyhdistys ry:n sääntömääräinen syyskokous pidetään lauantaina 30.11.2024 alkaen klo 14.00. Kokouspaikkana toimii Juhlatalo Ukko-Pekka osoitteessa Asematie 37\, 42800 Haapamäki. \nLäsnäolo-oikeus kokouksessa on yhdistyksen jäsenluetteloon merkityillä jäsenillä. Tarkemmat tiedot löydät mm. yhdistyksen säännöistä. \nKokouksessa käsitellään sääntömääräiset asiat\, kuten \n\nToimintasuunnitelma ja talousarvio vuodelle 2025\nmäärätään jäsenmaksut toimintavuodelle 2025\nValitaan yhdistykselle puheenjohtaja\, varapuheenjohtaja\, sihteeri\, taloudenhoitaja sekä hallituksen varajäsen. Hallituksen kaksi varsinaista jäsentä jatkavat vuoden 2025 loppuun asti.\nmuut kokouskutsussa mainitut asiat\n\nVirallinen kokouskutsu on lähetetty yhdistyksen jäsenille perjantaina 8.11.2024. Tarkista sähköpostisi roskapostikansio\, jos et ole saanut viestiä meiltä silloin. \nKokouksen jälkeen yhdistys tarjoaa samassa paikassa jäsenilleen jouluaterian alkaen noin klo 17. Ilmoittautumisohjeet jouluaterialle ja lisätiedot kerrotaan jäsenkirjeessä. \nTervetuloa
URL:https://hmvywordpress.azurewebsites.net/tapahtuma/syyskokous-2024/
LOCATION:Juhlatalo Ukko-Pekka\, Asematie 37\, Haapamäki\, 42800
ATTACH;FMTTYPE=image/jpeg:/wp-content/uploads/2024/01/Dr12-talvi-asemalla_1200px.jpg
END:VEVENT
END:VCALENDAR