BEGIN:VCALENDAR
VERSION:2.0
PRODID:-//Haapamäen Museoveturiyhdistys ry - ECPv6.15.20//NONSGML v1.0//EN
CALSCALE:GREGORIAN
METHOD:PUBLISH
X-ORIGINAL-URL:https://hmvywordpress.azurewebsites.net
X-WR-CALDESC:Tapahtumat Haapamäen Museoveturiyhdistys ry
REFRESH-INTERVAL;VALUE=DURATION:PT1H
X-Robots-Tag:noindex
X-PUBLISHED-TTL:PT1H
BEGIN:VTIMEZONE
TZID:Europe/Helsinki
BEGIN:DAYLIGHT
TZOFFSETFROM:+0200
TZOFFSETTO:+0300
TZNAME:EEST
DTSTART:20240331T010000
END:DAYLIGHT
BEGIN:STANDARD
TZOFFSETFROM:+0300
TZOFFSETTO:+0200
TZNAME:EET
DTSTART:20241027T010000
END:STANDARD
BEGIN:DAYLIGHT
TZOFFSETFROM:+0200
TZOFFSETTO:+0300
TZNAME:EEST
DTSTART:20250330T010000
END:DAYLIGHT
BEGIN:STANDARD
TZOFFSETFROM:+0300
TZOFFSETTO:+0200
TZNAME:EET
DTSTART:20251026T010000
END:STANDARD
BEGIN:DAYLIGHT
TZOFFSETFROM:+0200
TZOFFSETTO:+0300
TZNAME:EEST
DTSTART:20260329T010000
END:DAYLIGHT
BEGIN:STANDARD
TZOFFSETFROM:+0300
TZOFFSETTO:+0200
TZNAME:EET
DTSTART:20261025T010000
END:STANDARD
END:VTIMEZONE
BEGIN:VEVENT
DTSTART;TZID=Europe/Helsinki:20250420T103500
DTEND;TZID=Europe/Helsinki:20250420T161300
DTSTAMP:20260423T024835
CREATED:20250323T123034Z
LAST-MODIFIED:20250323T123034Z
UID:2228-1745145300-1745165580@hmvywordpress.azurewebsites.net
SUMMARY:Lättähatun kyydissä Tampereelta Vammalaan sunnuntaina 20.4.2025
DESCRIPTION:1960-luvun lättähattu-dieselmoottorivaunut saapuvat pääsiäissunnuntaina 20.4. Tampereen ja Vammalan välille tarjoamaan mahdollisuuden kokea nostalgista junamatkustamisen tunnelmaa Tampereen ja Vammalan välillä. Lättähatut tekevät päivän aikana kaksi edestakaista matkaa Tampereelta Vammalaan\, pysähtyen Tesomalla\, Nokialla ja Karkussa. \nJunien aikataulut ja lippujen hinnat löytyvät tapahtuman keskustelusta.\nLastenvaunut yms. kookkaammat matkatavarat kulkevat maksutta junan matkatavaraosastossa.\nTervetuloa nostalgiselle junamatkalle! \nVinkkejä sujuvaan matkustamiseen ja vastauksia yleisimpiin kysymyksiin löydät tästä linkistä.
URL:https://hmvywordpress.azurewebsites.net/tapahtuma/lattahattu-tampereelta-vammalaan-2025/
LOCATION:Tampereen rautatieasema\, Rautatienkatu 25\, Tampere\, 33100\, Finland
ATTACH;FMTTYPE=image/jpeg:/wp-content/uploads/2024/05/Dm7.jpg
END:VEVENT
END:VCALENDAR