BEGIN:VCALENDAR
VERSION:2.0
PRODID:-//Haapamäen Museoveturiyhdistys ry - ECPv6.15.20//NONSGML v1.0//EN
CALSCALE:GREGORIAN
METHOD:PUBLISH
X-ORIGINAL-URL:https://hmvywordpress.azurewebsites.net
X-WR-CALDESC:Tapahtumat Haapamäen Museoveturiyhdistys ry
REFRESH-INTERVAL;VALUE=DURATION:PT1H
X-Robots-Tag:noindex
X-PUBLISHED-TTL:PT1H
BEGIN:VTIMEZONE
TZID:Europe/Helsinki
BEGIN:DAYLIGHT
TZOFFSETFROM:+0200
TZOFFSETTO:+0300
TZNAME:EEST
DTSTART:20240331T010000
END:DAYLIGHT
BEGIN:STANDARD
TZOFFSETFROM:+0300
TZOFFSETTO:+0200
TZNAME:EET
DTSTART:20241027T010000
END:STANDARD
BEGIN:DAYLIGHT
TZOFFSETFROM:+0200
TZOFFSETTO:+0300
TZNAME:EEST
DTSTART:20250330T010000
END:DAYLIGHT
BEGIN:STANDARD
TZOFFSETFROM:+0300
TZOFFSETTO:+0200
TZNAME:EET
DTSTART:20251026T010000
END:STANDARD
BEGIN:DAYLIGHT
TZOFFSETFROM:+0200
TZOFFSETTO:+0300
TZNAME:EEST
DTSTART:20260329T010000
END:DAYLIGHT
BEGIN:STANDARD
TZOFFSETFROM:+0300
TZOFFSETTO:+0200
TZNAME:EET
DTSTART:20261025T010000
END:STANDARD
END:VTIMEZONE
BEGIN:VEVENT
DTSTART;TZID=Europe/Helsinki:20251122T140000
DTEND;TZID=Europe/Helsinki:20251122T180000
DTSTAMP:20260422T141804
CREATED:20250930T171441Z
LAST-MODIFIED:20251022T164151Z
UID:2452-1763820000-1763834400@hmvywordpress.azurewebsites.net
SUMMARY:Sääntömääräinen syyskokous ja yhdistyksen joulujuhla
DESCRIPTION:Haapamäen Museoveturiyhdistys ry:n sääntömääräinen syyskokous pidetään lauantaina 22.11.2025 klo 14.00 alkaen Juhlatalo Ukko-Pekassa (”Höykkä”\, Asematie 37\, 42800 Haapamäki). Kiitokseksi päättyvästä toimintavuodesta yhdistys tarjoaa jouluruokailun Höykällä kokouksen jälkeen. \nViralliset kokouskutsut ja lisää tietoa joulujuhlasta lähetetään lähiaikoina. \nPäivitys: Kokouskutsut on lähetetty jäsenille 21.10. joko sähköpostitse tai kirjeitse jäsenrekisterissä olevaan osoitteeseen.
URL:https://hmvywordpress.azurewebsites.net/tapahtuma/saantomaarainen-syyskokous-ja-yhdistyksen-joulujuhla/
LOCATION:Juhlatalo Ukko-Pekka\, Asematie 37\, Haapamäki\, 42800
END:VEVENT
END:VCALENDAR