BEGIN:VCALENDAR
VERSION:2.0
PRODID:-//Haapamäen Museoveturiyhdistys ry - ECPv6.15.20//NONSGML v1.0//EN
CALSCALE:GREGORIAN
METHOD:PUBLISH
X-ORIGINAL-URL:https://hmvywordpress.azurewebsites.net
X-WR-CALDESC:Tapahtumat Haapamäen Museoveturiyhdistys ry
REFRESH-INTERVAL;VALUE=DURATION:PT1H
X-Robots-Tag:noindex
X-PUBLISHED-TTL:PT1H
BEGIN:VTIMEZONE
TZID:Europe/Helsinki
BEGIN:DAYLIGHT
TZOFFSETFROM:+0200
TZOFFSETTO:+0300
TZNAME:EEST
DTSTART:20240331T010000
END:DAYLIGHT
BEGIN:STANDARD
TZOFFSETFROM:+0300
TZOFFSETTO:+0200
TZNAME:EET
DTSTART:20241027T010000
END:STANDARD
BEGIN:DAYLIGHT
TZOFFSETFROM:+0200
TZOFFSETTO:+0300
TZNAME:EEST
DTSTART:20250330T010000
END:DAYLIGHT
BEGIN:STANDARD
TZOFFSETFROM:+0300
TZOFFSETTO:+0200
TZNAME:EET
DTSTART:20251026T010000
END:STANDARD
BEGIN:DAYLIGHT
TZOFFSETFROM:+0200
TZOFFSETTO:+0300
TZNAME:EEST
DTSTART:20260329T010000
END:DAYLIGHT
BEGIN:STANDARD
TZOFFSETFROM:+0300
TZOFFSETTO:+0200
TZNAME:EET
DTSTART:20261025T010000
END:STANDARD
END:VTIMEZONE
BEGIN:VEVENT
DTSTART;TZID=Europe/Helsinki:20251108T120000
DTEND;TZID=Europe/Helsinki:20251108T154500
DTSTAMP:20260420T192724
CREATED:20251031T093310Z
LAST-MODIFIED:20251031T094706Z
UID:2463-1762603200-1762616700@hmvywordpress.azurewebsites.net
SUMMARY:Lättähattu-museojunat Jämsänkoski-Jämsä-Kaipola 8.11.2025
DESCRIPTION:Lauantaina 8.11. on mahdollisuus hypätä legendaarisen Lättähatun kyytiin\, joka kulkee Jämsänkosken ja Kaipolan (Olkkolan ratapiha) välillä. Lättähatut ovat 1950-luvun dieselmoottorivaunuja\, jotka ovat olleet aikanaan yleinen näky kaikkialla suomen rataverkolla. Matka Lättähatulla sopii niin perheen pienimmille kuin nostalgian nälkäisille senioreille – ja kaikille siltä väliltä. Viileäänkin vuodenaikaan Lättähatussa on kaikki mukavuudet\, junasta löytyy lämmitys\, valaistus sekä WC:t jokaisesta vaunusta. \nJunaan voi nousta kyytiin Jämsän rautatieasemalta\, Jämsänkosken vanhalta asemalta (Viinikantien ja Jämsäntien risteyksen vieressä)\, sekä Kaipolassa (Olkkola). Pysähdyspaikkana Kaipolassa (Olkkola) toimii Lautatarhankadun tasoristeys. \nLastenrattaat yms. matkatavarat kulkevat maksutta junan matkatavaraosastossa. \n\nLiput myydään junan kyydissä. \nTästä linkistä saat lisätietoa museojunalla matkustamisesta\, sekä vastauksia yleisimpiin kysymyksiin \nJunaan myydään vain yhdentyyppisiä lippuja\, jolla saa matkustaa yhden täyden kierroksen\, eli esimerkiksi Jämsänkoski-Kaipola-Jämsänkoski tai Jämsä-Jämsänkoski-Kaipola-Jämsä.Lippujen hinnat:Aikuinen 15€Lapsi (4-16v) 10€Perhe (2 aikuista ja yhden talouden lapset) 50€ \n\nTervetuloa nostalgiselle Lättähattumatkalle!
URL:https://hmvywordpress.azurewebsites.net/tapahtuma/jamsa-2025/
LOCATION:Jämsän rautatieasema\, Asemakatu 5\, Jämsä\, 42100\, Finland
ATTACH;FMTTYPE=image/jpeg:/wp-content/uploads/2025/09/Latta-kuva-6.jpg
END:VEVENT
BEGIN:VEVENT
DTSTART;TZID=Europe/Helsinki:20251109T122000
DTEND;TZID=Europe/Helsinki:20251109T151100
DTSTAMP:20260420T192724
CREATED:20251031T094252Z
LAST-MODIFIED:20251109T081915Z
UID:2472-1762690800-1762701060@hmvywordpress.azurewebsites.net
SUMMARY:Lättähattu-museojunat Tampere-Nokia 9.11.2025
DESCRIPTION:1950-luvun lättähattu-dieselmoottorivaunut saapuvat sunnuntaina 9.11.2025 Tampereen ja Nokian välille tarjoamaan mahdollisuuden kokea nostalgista junamatkustamisen tunnelmaa Tampereen ja Nokian välillä. Lättähatut tekevät päivän aikana kolme edestakaista matkaa Tampereelta Nokialle\, pysähtyen Tesomalla. \nLättähatuilla on juurensa Tampereella ja lähiympäristössä. Lättähatut on rakennettu Valmetin tehtaalla Tampereen Härmälässä\, ja vaunujen moottorit Siuron Linnavuoressa. Lättähatut ovat liikkuneet Tampereen ympäristössä aina niiden aktiiviuran loppuun vuoteen 1988 asti. \nViileänä loppusyksyn päivänäkin Lättähattu on varustettu mukavuuksilla; vaunuissa on lämmitys\, valaistus sekä WC. \n \nLippujen hinnat:\nTampere – Nokia tai päinvastoin;\nAikuiset 20 €\, lapset 10 €\, perhe 50 € (meno-paluu)\nTesoma-Nokia/Tampere;\nAikuiset 10€\, lapset 5€\, perhe 30€ (meno-paluu) \n– Menoliput -50 %.\n– Lapset = 4–16-vuotiaat\n– Perhe = kaksi aikuista ja yhdessä taloudessa asuvat lapset\n– Liput myydään junassa\, maksuvälineenä maksukortit sekä käteinen\n– Yhdistyksen jäsenkortilla -5 € omasta ja yhden seuralaisen matkalipusta.\n– Huomioittehan\, etteivät Nysse-liput käy junassamme. \nTästä linkistä saat lisätietoa museojunalla matkustamisesta\, sekä vastauksia yleisimpiin kysymyksiin \nLastenvaunut ja muut vastaavat suuremmat matkatavarat kulkevat maksutta junan konduktöörivaunun matkatavaraosastossa. \nTervetuloa nostalgiselle junamatkalle!
URL:https://hmvywordpress.azurewebsites.net/tapahtuma/tampere-2025/
LOCATION:Tampereen rautatieasema\, Rautatienkatu 25\, Tampere\, 33100\, Finland
ATTACH;FMTTYPE=image/jpeg:/wp-content/uploads/2025/09/Latta-kuva-1.jpg
END:VEVENT
BEGIN:VEVENT
DTSTART;TZID=Europe/Helsinki:20251122T140000
DTEND;TZID=Europe/Helsinki:20251122T180000
DTSTAMP:20260420T192724
CREATED:20250930T171441Z
LAST-MODIFIED:20251022T164151Z
UID:2452-1763820000-1763834400@hmvywordpress.azurewebsites.net
SUMMARY:Sääntömääräinen syyskokous ja yhdistyksen joulujuhla
DESCRIPTION:Haapamäen Museoveturiyhdistys ry:n sääntömääräinen syyskokous pidetään lauantaina 22.11.2025 klo 14.00 alkaen Juhlatalo Ukko-Pekassa (”Höykkä”\, Asematie 37\, 42800 Haapamäki). Kiitokseksi päättyvästä toimintavuodesta yhdistys tarjoaa jouluruokailun Höykällä kokouksen jälkeen. \nViralliset kokouskutsut ja lisää tietoa joulujuhlasta lähetetään lähiaikoina. \nPäivitys: Kokouskutsut on lähetetty jäsenille 21.10. joko sähköpostitse tai kirjeitse jäsenrekisterissä olevaan osoitteeseen.
URL:https://hmvywordpress.azurewebsites.net/tapahtuma/saantomaarainen-syyskokous-ja-yhdistyksen-joulujuhla/
LOCATION:Juhlatalo Ukko-Pekka\, Asematie 37\, Haapamäki\, 42800
END:VEVENT
BEGIN:VEVENT
DTSTART;TZID=Europe/Helsinki:20251129T092500
DTEND;TZID=Europe/Helsinki:20251129T180100
DTSTAMP:20260420T192724
CREATED:20251127T140946Z
LAST-MODIFIED:20251127T140946Z
UID:2498-1764408300-1764439260@hmvywordpress.azurewebsites.net
SUMMARY:Lättähattu-museojuna Seinäjoki-Vaasa-Seinäjoki
DESCRIPTION:Lauantaina 29.11. on mahdollisuus matkustaa legendaarisella Lättähatulla Seinäjoelta Vaasaan ja takaisin.\nMatka sopii esimerkiksi päiväreissuun Vaasaan\, tai muuten vain nostalgisen kokemuksen haluavalle. Päivän aikana juna tekee matkoja joulupukin kanssa Vaasan ja Vaskiluodon välillä\, joiden tietoihin pääset tästä linkistä \nAikataulu:\nJunan tunnus: MUS 1921\nSeinäjoki 9:25\nTervajoki 10:04\nVaasa 10:40 \nJunan tunnus: MUS 1928\nVaasa 16:47\nTervajoki 17:22\nSeinäjoki 18:01 \nSeinäjoella junan lähtöraiteen näkee aseman infonäytöiltä junan tunnuksella. \nLippujen hinnat:\nSeinäjoki-Vaasa (tai toisinpäin)\nAikuiset 15€\nLapset (4-16v) 10€ \nTervajoki-Vaasa/Seinäjoki (tai toisinpäin)\nAikuiset 7\,50€\nLapset (4-16v) 5€ \nTästä linkistä saat lisätietoa museojunalla matkustamisesta\, sekä vastauksia yleisimpiin kysymyksiin \nMaksuvälineinä maksukortit ja käteinen. \nTervetuloa!
URL:https://hmvywordpress.azurewebsites.net/tapahtuma/seinajoki-vaasa-2025/
LOCATION:Seinäjoen rautatieasema\, Ruukintie 2\, Seinäjoki\, Etelä-Pohjanmaa\, 60100\, Finland
ATTACH;FMTTYPE=image/jpeg:/wp-content/uploads/2025/11/Dm7-talvi-scaled.jpg
END:VEVENT
BEGIN:VEVENT
DTSTART;TZID=Europe/Helsinki:20251129T110000
DTEND;TZID=Europe/Helsinki:20251129T155000
DTSTAMP:20260420T192724
CREATED:20251111T103328Z
LAST-MODIFIED:20251127T141120Z
UID:2481-1764414000-1764431400@hmvywordpress.azurewebsites.net
SUMMARY:Joulupukin Lättähattu-museojunat Vaasa-Vaskiluoto / Juldgubbens Platthattmuseitåg Vasa-Vasklot
DESCRIPTION:(scrolla ner för svenskspråkig text) \nLauantaina 29.11. Joulupukki on valinnut menopelikseen legendaariset 1950-luvun Dm7-dieselmoottorivaunut\, eli ”Lättähatut”. Lättähatut tekevät päivän aikana neljä edestakaista matkaa Vaasasta Vaskiluotoon ja takaisin. Joulupukki ja apulaistonttu kiertävät matkan aikana junassa kuuntelemassa mm. lahjatoiveita\, ja jakamassa suklaakonvehteja. \nMatka lättähatulla on aikamatka 1950-luvun junamatkustamiseen\, ja sopii kaikille vauvasta vaariin! Junassa on lämmitys\, valaistus ja WC\, joten mukavuudesta ei tarvitse tinkiä! \nMatka Vaskiluotoon ja sieltä takaisin Vaasaan kestää 40 minuuttia. Alla lähtö- ja saapumisajat Vaasan rautatieasemalle:\n1. Juna\nLähtö Vaasasta 11.00\nPaluu Vaasaan 11.40\n2. Juna\nLähtö Vaasasta 12.00\nPaluu Vaasaan 12.40\n3. Juna\nLähtö Vaasasta 14.10\nPaluu Vaasaan 14.50\n4. Juna\nLähtö Vaasasta 15.10\nPaluu Vaasaan 15.50 \nLippujen hinnat (meno-paluu Vaasa–Vaskiluoto–Vaasa)\nAikuiset 10 €\nLapset (4-16v) 7\,5 €\nPerhe (2 aik+ saman talouden lapset) 35€ \nLippuja myydään junassa sekä mahdollisuuksien mukaan laiturilla ennen junan lähtöaikaa. Maksu tapahtuu kortilla\, myös käteinen hyväksytään. Paikkavarauksia ei ole\, joten suosittelemme saapumaan asemalle hyvissä ajoin. \nTästä linkistä saat lisätietoa museojunalla matkustamisesta\, sekä vastauksia yleisimpiin kysymyksiin \nKookkaat matkatavarat\, kuten esimerkiksi lastenvaunut kulkevat maksutta junan matkatavaraosastossa. \nTervetuloa nostalgiselle matkalle! \n\nPå lördag den 29.11 har Julgubbe valt att ta sig runt med de legendariska Dm7-motorvagnarna eller ”Platthatt” från 1950-talet. \nVåra tåg går fyra gånger tur och retur från Vasa till Vasklot. Du kan hitta både julgubben och hans tomte ombord i tåget. Ta med din önskelista eller njut av choklad som du får från julgubben.\nDet är en riktig resa tillbaka till 1950-talet\, men vi har ju bekvämligheter m.m. uppvärmning\, belysning och toalett. \nRestid Vasa-Vasklot-Vasa är ca. 40 minuter. \nTidtabell:\nTåg 1\nAvgång från Vasa kl. 11.00\nAnkomst till Vasa kl. 11.40\nTåg 2\nAvgång från Vasa kl. 12.00\nAnkomst till Vasa kl. 12.40\nTåg 3\nAvgång från Vasa kl. 14.10\nAnkomst till Vasa kl. 14.50\nTåg 4\nAvgång från Vasa kl. 15.10\nAnkomst till Vasa kl. 15.50 \nBiljettpriser (t/r Vasa-Vasklot-Vasa)\nVuxen 10€\nBarn (4-16 år) 7\,50€\nFamilj (2 vuxna+hushållets barn) 35€ \nBiljetter säljes i tåget och på plattform före tågets avgångstid. Betala gärna med kort\, kontant accepteras också. Du kan inte reservera din plats så kom på plats i god tid innan avgång! \nTästä linkistä saat lisätietoa museojunalla matkustamisesta\, sekä vastauksia yleisimpiin kysymyksiin \nDet finns plats för bagage t.ex. barnvagnar i tågets resgodsavdelning. \nVälkommen ombord – en resa tillbaka i tiden!
URL:https://hmvywordpress.azurewebsites.net/tapahtuma/vaasa-2025/
LOCATION:Vaasan rautatieasema\, Ratakatu 13\, Vaasa\, 65100\, Finland
ATTACH;FMTTYPE=image/jpeg:/wp-content/uploads/2025/11/Dm7-talvi-scaled.jpg
END:VEVENT
BEGIN:VEVENT
DTSTART;TZID=Europe/Helsinki:20251130T113300
DTEND;TZID=Europe/Helsinki:20251130T162100
DTSTAMP:20260420T192724
CREATED:20251113T085241Z
LAST-MODIFIED:20251116T173503Z
UID:2485-1764502380-1764519660@hmvywordpress.azurewebsites.net
SUMMARY:Joulupukin Lättähattu-museojunat Seinäjoki- Härmä
DESCRIPTION:Sunnuntaina 30.11. Joulupukki on valinnut menopelikseen legendaariset 1950-luvun Dm7-dieselmoottorivaunut\, eli ”Lättähatut”. Lättähatut tekevät päivän aikana kaksi edestakaista matkaa Seinäjoelta Härmään ja takaisin\, pysähtyen matkalla Lapualla ja Kauhavalla. Joulupukki kiertää matkan aikana junassa kuuntelemassa mm. lahjatoiveita\, ja jakamassa suklaakonvehteja. \nMatka lättähatulla on aikamatka 1950-luvun junamatkustamiseen\, ja sopii kaikille vauvasta vaariin! Junassa on lämmitys\, valaistus ja WC\, joten mukavuudesta ei tarvitse tinkiä! \n \n \n  \n  \nLippuja myydään junassa sekä mahdollisuuksien mukaan laiturilla ennen junan lähtöaikaa. Maksu tapahtuu kortilla\, myös käteinen hyväksytään. Paikkavarauksia ei ole\, joten suosittelemme saapumaan asemalle hyvissä ajoin. \nTästä linkistä saat lisätietoa museojunalla matkustamisesta\, sekä vastauksia yleisimpiin kysymyksiin \nKookkaat matkatavarat\, kuten esimerkiksi lastenvaunut kulkevat maksutta junan matkatavaraosastossa. \nTervetuloa nostalgiselle matkalle!
URL:https://hmvywordpress.azurewebsites.net/tapahtuma/seinajoki-2025/
LOCATION:Seinäjoen rautatieasema\, Ruukintie 2\, Seinäjoki\, Etelä-Pohjanmaa\, 60100\, Finland
ATTACH;FMTTYPE=image/jpeg:/wp-content/uploads/2025/11/Dm7-talvi-scaled.jpg
END:VEVENT
END:VCALENDAR