BEGIN:VCALENDAR
VERSION:2.0
PRODID:-//Haapamäen Museoveturiyhdistys ry - ECPv6.15.20//NONSGML v1.0//EN
CALSCALE:GREGORIAN
METHOD:PUBLISH
X-WR-CALNAME:Haapamäen Museoveturiyhdistys ry
X-ORIGINAL-URL:https://hmvywordpress.azurewebsites.net
X-WR-CALDESC:Tapahtumat Haapamäen Museoveturiyhdistys ry
REFRESH-INTERVAL;VALUE=DURATION:PT1H
X-Robots-Tag:noindex
X-PUBLISHED-TTL:PT1H
BEGIN:VTIMEZONE
TZID:Europe/Helsinki
BEGIN:DAYLIGHT
TZOFFSETFROM:+0200
TZOFFSETTO:+0300
TZNAME:EEST
DTSTART:20240331T010000
END:DAYLIGHT
BEGIN:STANDARD
TZOFFSETFROM:+0300
TZOFFSETTO:+0200
TZNAME:EET
DTSTART:20241027T010000
END:STANDARD
BEGIN:DAYLIGHT
TZOFFSETFROM:+0200
TZOFFSETTO:+0300
TZNAME:EEST
DTSTART:20250330T010000
END:DAYLIGHT
BEGIN:STANDARD
TZOFFSETFROM:+0300
TZOFFSETTO:+0200
TZNAME:EET
DTSTART:20251026T010000
END:STANDARD
BEGIN:DAYLIGHT
TZOFFSETFROM:+0200
TZOFFSETTO:+0300
TZNAME:EEST
DTSTART:20260329T010000
END:DAYLIGHT
BEGIN:STANDARD
TZOFFSETFROM:+0300
TZOFFSETTO:+0200
TZNAME:EET
DTSTART:20261025T010000
END:STANDARD
END:VTIMEZONE
BEGIN:VEVENT
DTSTART;TZID=Europe/Helsinki:20251213T111000
DTEND;TZID=Europe/Helsinki:20251213T174000
DTSTAMP:20260420T171945
CREATED:20251201T184948Z
LAST-MODIFIED:20251201T192804Z
UID:2501-1765624200-1765647600@hmvywordpress.azurewebsites.net
SUMMARY:Joulupukin museojunat Pori-Kokemäki
DESCRIPTION:Lauantaina 13.12. itse Joulupukki matkustaa Haapamäen museoveturiyhdistyksen\, vuonna 1962 valmistuneen Dv16 sarjan dieselveturin vetämän junan kyydissä Porin ja Kokemäen välillä. \nJoulupukki on kerennyt kaikilta kiireiltään Korvatunturilta saakka ja saapunut junaamme keräämään joululahjatoiveita sekä jakamaan suklaakonvehteja! \nJunan kyydissä on mahdollista matkustaa kaksi edestakaista matkaa Porista Kokemäelle ja kaksi edestakaista matkaa Kokemäeltä Poriin. Juna pysähtyy myös Harjavallan rautatieasemalla. \nVedettäväkseen Dv16\, numeroltaan 2038 on saanut puukorisia matkustajavaunuja 1950-luvulta. \nMatka museojunalla soveltuu mainiosti kaikenikäisille ja tarjoaa mahdollisuuden muistella menneisyyden junamatkoja\, sekä on oiva tilaisuus nuoremmille sukupolville kurkistaa menneiden vuosikymmenten rautatiematkustamiseen! \nJunamme vaunuissa on lämmitys\, valaistus\, sekä WC\, joten matkustusmukavuudesta ei tarvitse tinkiä\, vaikka olisi kovakin pakkanen! \nPyydämme huomioimaan\, ettei junamme valitettavasti täytä nykypäivän esteettömyysvaatimuksia ja junaan nousu tapahtuu jyrkkien portaiden sekä kapeiden ovien kautta. \nJoulupukin museojuna ajaa päivän aikana kahdesti Porin ja Kokemäen väliä seuraavin aikatauluin: \n1. Juna\nMUS 1920 \nPori lähtö 11:10\nHarjavalta lähtö 11:39\nKokemäki tulo 11:51 \nMUS 1921 \nKokemäki lähtö 12:20\nHarjavalta lähtö 12:35\nPori tulo 13:01 \n2. Juna\nMUS 1922 \nPori lähtö: 13:45\nHarjavalta lähtö: 14:14\nKokemäki tulo 14:26 \nMUS 1923 \nKokemäki lähtö 14:55\nHarjavalta lähtö 15:09\nPori tulo 15:36 \n3. Juna (ei paluuta Poriin)\nMUS 1924 \nPori lähtö 16:55\nHarjavalta lähtö 17:28\nKokemäki tulo 17:40 \nJunan lähtöraide löytyy aseman informaationäytöistä junan tunnuksen (esim. MUS 1921) kohdalta. \nLippujen hinnat:\nMeno-paluu Pori-Kokemäki\nAikuiset 25€\nLapset (4-16v) 15€\nPerhe (2 aik + saman talouden lapset) 70€ \nMeno Pori-Kokemäki:\nAikuiset 15€\nLapset (4-16v) 10€\nPerhe (2 aik + saman talouden lapset) 50€ \nMeno-paluu Harjavalta-Pori/Kokemäki\nAikuiset 15€\nLapset (4-16v) 10€\nPerhe (2 aik + saman talouden lapset) 50€ \nMeno Harjavalta-Pori/Kokemäki\nAikuiset 10€\nLapset (4-16v) 5€\nPerhe (2 aik + saman talouden lapset) 30€ \nLiput myydään junan kyydissä.\nMaksuvälineinä käyvät sekä maksukortit että käteinen. Valitettavasti lippuja ei myydä ennakkoon ja istumapaikat eivät ole varattavissa. Suosittelemme saapumaan asemalle hyvissä ajoin ennen lähtöaikaa. \nJoulupukki kiertää junassa juttelemassa lapsille ja jakamassa suklaakonvehteja. \nLastenvaunut yms. matkatavarat kulkevat maksutta junan matkatavaraosastossa. \nTästä linkistä saat lisätietoa museojunalla matkustamisesta\, sekä vastauksia yleisimpiin kysymyksiin \nTervetuloa kyytiin!
URL:https://hmvywordpress.azurewebsites.net/tapahtuma/pori-2025/
LOCATION:Porin rautatieasema\, Asema-aukio 3\, Pori\, Satakunta\, 28130\, Finland
ATTACH;FMTTYPE=image/jpeg:/wp-content/uploads/2025/12/dv16-kuva-1.jpg
END:VEVENT
BEGIN:VEVENT
DTSTART;TZID=Europe/Helsinki:20251214T104000
DTEND;TZID=Europe/Helsinki:20251214T163400
DTSTAMP:20260420T171945
CREATED:20251201T192233Z
LAST-MODIFIED:20251214T104551Z
UID:2509-1765708800-1765730040@hmvywordpress.azurewebsites.net
SUMMARY:PERUTTU Joulupukin museojunat Rauma-Kokemäki
DESCRIPTION:PÄIVÄN LÄHDÖT PERUUTETTU VETURIVIAN VUOKSI \nSunnuntaina 14.12. itse Joulupukki matkustaa Haapamäen museoveturiyhdistyksen 1960-luvulla valmistuneen Dv16 sarjan dieselveturin vetämän\, nostalgisista puukorisista matkustajavaunuista junan kyydissä Rauman ja Kokemäen välillä! \nJoulupukki on ehtinyt kaikilta kiireiltään Korvatunturilta saakka Satakuntaan\, ja saapunut junaamme keräämään joululahjatoiveita sekä jakamaan suklaakonvehteja! \nJunan kyydissä on mahdollista matkustaa kaksi edestakaista matkaa Raumalta Kokemäelle ja yksi edestakainen matka Kokemäeltä Raumalle. \nMatka museojunalla soveltuu mainiosti kaikenikäisille ja tarjoaa mahdollisuuden muistella menneisyyden junamatkoja\, sekä on oiva tilaisuus nuoremmille sukupolville kurkistaa menneiden vuosikymmenten rautatiematkustamiseen! \nJunamme vaunuissa on lämmitys\, valaistus\, sekä WC\, joten matkustusmukavuudesta ei tarvitse tinkiä\, vaikka olisi kovakin pakkanen! \nPyydämme huomioimaan\, ettei junamme valitettavasti täytä nykypäivän esteettömyysvaatimuksia ja junaan nousu tapahtuu jyrkkien portaiden sekä kapeiden ovien kautta. \nJoulupukin museojuna ajaa päivän aikana kahdesti Rauman ja Kokemäen väliä seuraavin aikatauluin: \nMUS 1920 PERUTTU \nRauma lähtö 10:40\nKokemäki tulo 11:29 \nMUS 1921 PERUTTU \nKokemäki lähtö 12:00\nRauma tulo 12:49 \nMUS 1922 PERUTTU \nRauma lähtö 14:30\nKokemäki tulo 15:19 \nMUS 1923 PERUTTU \nKokemäki lähtö 15:45\nRauma tulo 16:34 \nRaumalla juna lähtee vanhalta tavara-asemalta\, Karjalankatu 23\nKokemäellä juna lähtee rautatieasemalta \nLippujen hinnat: \nMeno-paluu:\nAikuiset 25€\nLapset (4-16v) 15€\nPerhe (2 aik + saman talouden lapset) 70€ \nMeno:\nAikuiset 15€\nLapset (4-16v) 10€\nPerhe (2 aik + saman talouden lapset) 50€ \nLiput myydään junan kyydissä. \nMaksuvälineinä käyvät sekä maksukortit että käteinen. Valitettavasti lippuja ei myydä ennakkoon\, eikä istumapaikkoja voi varata. Suosittelemme saapumaan asemalle hyvissä ajoin ennen lähtöaikaa. \nJoulupukki kiertää junassa juttelemassa lapsille ja jakamassa suklaakonvehteja. \nTästä linkistä saat lisätietoa museojunalla matkustamisesta\, sekä vastauksia yleisimpiin kysymyksiin \nLastenvaunut yms. matkatavarat kulkevat maksutta junan matkatavaraosastossa. \nTervetuloa kyytiin!
URL:https://hmvywordpress.azurewebsites.net/tapahtuma/rauma-2025/
LOCATION:Rauman vanha tavara-asema\, Karjalankatu 23\, Rauma\, Satakunta\, 26100\, Finland
ATTACH;FMTTYPE=image/jpeg:/wp-content/uploads/2025/12/dv16-kuva-1.jpg
END:VEVENT
END:VCALENDAR